	

BEGIN:VCALENDAR
VERSION:2.0
PRODID:-//hacksw/handcal//NONSGML v1.0//EN
CALSCALE:GREGORIAN
BEGIN:VEVENT
LOCATION:Napier\, New Zealand
SUMMARY:New Zealand Forest Industry Status and Outlook 2021 Seminar\, Conference and Field Trip
DTSTART:20210315T000000Z
DTEND:20210318T000000Z
DESCRIPTION:New Zealand Forest Industry Status and Outlook 2021 Seminar\, Conference and Field Trip - https://danaevents.co.nz/2021napier
URL;VALUE=URI:https://danaevents.co.nz/2021napier
DTSTAMP:20210122T115155Z
UID:600a058bd081a
END:VEVENT
END:VCALENDAR